BEGIN:VCALENDAR
VERSION:2.0
PRODID:-//eventon.com NONSGML v1.0//EN
CALSCALE:GREGORIAN
METHOD:PUBLISH
BEGIN:VEVENT
UID:69e7436c6562c
DTSTAMP:20260421T092916Z
DTSTART:20201015
DTEND:20201016
LOCATION:
SUMMARY:EL PRESIDENTE DE LA ACADEMIA NACIONAL DE ODONTOLOGÍA\,  EL DR. EDUARDO REY\,  JUNTO A LOS PRESIDENTES DE LAS ACADEMIAS NACIONALES.
DESCRIPTION:En el día de hoy\,  la Academia Nacional de Odontología\, 
  realizó un acto académico para felicitar a las ganadoras del premio AND
 O – Bernabó\,  así como también\,  aquellos profesionales que realizar
 on labores asistenciales y científicas durante este año.\nhttps://ando.or
 g.ar/events/el-presidente-de-la-academia-nacional-de-odontologia-el-dr-edua
 rdo-rey-junto-a-los-presidentes-de-las-academias-nacionales/
URL:https://ando.org.ar/events/el-presidente-de-la-academia-nacional-de-odontologia-el-dr-eduardo-rey-junto-a-los-presidentes-de-las-academias-nacionales/
END:VEVENT
END:VCALENDAR