BEGIN:VCALENDAR
VERSION:2.0
PRODID:-//eventon.com NONSGML v1.0//EN
CALSCALE:GREGORIAN
METHOD:PUBLISH
BEGIN:VEVENT
UID:69e72f8bc30e2
DTSTAMP:20260421T080427Z
DTSTART:20240321
DTEND:20240322
LOCATION:Salón Biblioteca de la Academia Nacional de Medicina Av. Las Heras 3092
SUMMARY:Acto Académico
DESCRIPTION:21 de marzo de 2024\nhttps://ando.org.ar/events/acto-academico-
 2/
URL:https://ando.org.ar/events/acto-academico-2/
END:VEVENT
END:VCALENDAR